{
 "currentVersion": 10.91,
 "serviceDescription": "This map draws attention to your thematic content by providing a neutral background with minimal colors, labels, and features. Only key information is represented to provide geographic context, allowing your data to come to the foreground. This light gray map supports any strong colors, creating a visually compelling map graphic which helps your reader see the patterns intended. This map was developed by Esri using HERE data, Garmin basemap layers, OpenStreetMap contributors, Esri basemap data, and select data from the GIS user community. Worldwide coverage is provided from Level 0 (1:591M scale) through Level 13 (1:72k scale). In North America (Canada, Mexico, United States), Europe, India, South America and Central America, Africa, most of the Middle east, and Australia & New Zealand coverage is provided from Level 14 (1:36k scale) through Level 16 (1:9k scale). For more information on this map, including the terms of use, visit us online<\/a>.",
 "mapName": "Layers",
 "description": "This map draws attention to your thematic content by providing a neutral background with minimal colors, labels, and features. Only key information is represented to provide geographic context, allowing your data to come to the foreground. This light gray map supports any strong colors, creating a visually compelling map graphic which helps your reader see the patterns intended. This map was developed by Esri using HERE data, Garmin basemap layers, OpenStreetMap contributors, Esri basemap data, and select data from the GIS user community. Worldwide coverage is provided from Level 0 (1:591M scale) through Level 13 (1:72k scale). In North America (Canada, Mexico, United States), Europe, India, South America and Central America, Africa, most of the Middle east, and Australia & New Zealand coverage is provided from Level 14 (1:36k scale) through Level 16 (1:9k scale). For more information on this map, including our terms of use, visit us online at http://goto.arcgisonline.com/maps/World_Light_Gray_Base",
 "copyrightText": "Esri, HERE, Garmin, (c) OpenStreetMap contributors, and the GIS user community",
 "supportsDynamicLayers": false,
 "layers": [
  {
   "id": 0,
   "name": "Light Gray Canvas Base",
   "parentLayerId": -1,
   "defaultVisibility": true,
   "subLayerIds": null,
   "minScale": 0,
   "maxScale": 0,
   "type": "Feature Layer",
   "geometryType": "esriGeometryPolygon"
  }
 ],
 "tables": [],
 "spatialReference": {
  "wkid": 102100,
  "latestWkid": 3857
 },
 "singleFusedMapCache": true,
 "tileInfo": {
  "rows": 256,
  "cols": 256,
  "dpi": 96,
  "format": "MIXED",
  "compressionQuality": 90,
  "origin": {
   "x": -2.0037508342787E7,
   "y": 2.0037508342787E7
  },
  "spatialReference": {
   "wkid": 102100,
   "latestWkid": 3857
  },
  "lods": [
   {
    "level": 0,
    "resolution": 156543.03392800014,
    "scale": 5.91657527591555E8
   },
   {
    "level": 1,
    "resolution": 78271.51696399994,
    "scale": 2.95828763795777E8
   },
   {
    "level": 2,
    "resolution": 39135.75848200009,
    "scale": 1.47914381897889E8
   },
   {
    "level": 3,
    "resolution": 19567.87924099992,
    "scale": 7.3957190948944E7
   },
   {
    "level": 4,
    "resolution": 9783.93962049996,
    "scale": 3.6978595474472E7
   },
   {
    "level": 5,
    "resolution": 4891.96981024998,
    "scale": 1.8489297737236E7
   },
   {
    "level": 6,
    "resolution": 2445.98490512499,
    "scale": 9244648.868618
   },
   {
    "level": 7,
    "resolution": 1222.992452562495,
    "scale": 4622324.434309
   },
   {
    "level": 8,
    "resolution": 611.4962262813797,
    "scale": 2311162.217155
   },
   {
    "level": 9,
    "resolution": 305.74811314055756,
    "scale": 1155581.108577
   },
   {
    "level": 10,
    "resolution": 152.87405657041106,
    "scale": 577790.554289
   },
   {
    "level": 11,
    "resolution": 76.43702828507324,
    "scale": 288895.277144
   },
   {
    "level": 12,
    "resolution": 38.21851414253662,
    "scale": 144447.638572
   },
   {
    "level": 13,
    "resolution": 19.10925707126831,
    "scale": 72223.819286
   },
   {
    "level": 14,
    "resolution": 9.554628535634155,
    "scale": 36111.909643
   },
   {
    "level": 15,
    "resolution": 4.77731426794937,
    "scale": 18055.954822
   },
   {
    "level": 16,
    "resolution": 2.388657133974685,
    "scale": 9027.977411
   },
   {
    "level": 17,
    "resolution": 1.1943285668550503,
    "scale": 4513.988705
   },
   {
    "level": 18,
    "resolution": 0.5971642835598172,
    "scale": 2256.994353
   },
   {
    "level": 19,
    "resolution": 0.29858214164761665,
    "scale": 1128.497176
   },
   {
    "level": 20,
    "resolution": 0.14929107082380833,
    "scale": 564.248588
   },
   {
    "level": 21,
    "resolution": 0.07464553541190416,
    "scale": 282.124294
   },
   {
    "level": 22,
    "resolution": 0.03732276770595208,
    "scale": 141.062147
   },
   {
    "level": 23,
    "resolution": 0.01866138385297604,
    "scale": 70.5310735
   }
  ]
 },
 "initialExtent": {
  "xmin": -3.3938403394018404E7,
  "ymin": -2.101867028379554E7,
  "xmax": 3.3938403394018404E7,
  "ymax": 2.1018670283795442E7,
  "spatialReference": {
   "cs": "pcs",
   "wkid": 102100
  }
 },
 "fullExtent": {
  "xmin": -2.0037507067161843E7,
  "ymin": -1.99718688804086E7,
  "xmax": 2.0037507067161843E7,
  "ymax": 1.9971868880408484E7,
  "spatialReference": {
   "cs": "pcs",
   "wkid": 102100
  }
 },
 "minScale": 0,
 "maxScale": 0,
 "units": "esriMeters",
 "supportedImageFormatTypes": "PNG32,PNG24,PNG,JPG,DIB,TIFF,EMF,PS,PDF,GIF,SVG,SVGZ,BMP",
 "documentInfo": {
  "Title": "Canvas Base",
  "Author": "Esri",
  "Comments": "",
  "Subject": "political boundaries, populated places, water, roads, urban areas, building footprints, parks",
  "Category": "transportation(Transportation Networks) ",
  "AntialiasingMode": "None",
  "TextAntialiasingMode": "Force",
  "Keywords": "thematic basemap,thematic map,choropleth,dot map,dot density,flow map,heat map,graphs,infographic,graduated symbols,proportional symbols,neutral,subdued,canvas,shaded,hot spot,color coded,colorful,World,Global,Europe,Andorra,Austria,Belgium,Czech Republic,Denmark,France,Germany,Great Britain,Greece,Hungary,Ireland,Italy,Luxembourg,Netherlands,Norway,Poland,Portugal,San Marino,Slovakia,Spain,Sweden,Switzerland,North America,United States,Canada,Mexico,Southern Africa,Botswana,Lesotho,Namibia,South Africa and Swaziland,Asia,India,South America,Central America,Argentina,Bolivia,Brazil,Chile,Colombia,Peru,Uruguay,Venezuela,Australia,New Zealand"
 },
 "capabilities": "Map,Tilemap",
 "supportedQueryFormats": "JSON, geoJSON",
 "exportTilesAllowed": false,
 "referenceScale": 0,
 "datumTransformations": [
  {
   "geoTransforms": [
    {
     "wkid": 108001,
     "latestWkid": 1241,
     "transformForward": true,
     "name": "NAD_1927_To_NAD_1983_NADCON"
    }
   ]
  },
  {
   "geoTransforms": [
    {
     "wkid": 108001,
     "latestWkid": 1241,
     "transformForward": false,
     "name": "NAD_1927_To_NAD_1983_NADCON"
    }
   ]
  }
 ],
 "supportsDatumTransformation": true,
 "maxRecordCount": 1000,
 "maxImageHeight": 4096,
 "maxImageWidth": 4096,
 "supportedExtensions": "KmlServer"
}
