{
 "currentVersion": 10.91,
 "serviceDescription": "This map presents a digital version of the Operational Navigation Charts (ONC) at 1:1,000,000-scale, produced by the US National Geospatial-Intelligence Agency (NGA). The map includes over 200 charts across the world, excluding parts of North America, Europe, Asia, and Oceania where charts are not publicly available. For more information on this map, including the terms of use, visit us online<\/a>.",
 "mapName": "Layers",
 "description": "This map presents a digital version of the Operational Navigation Charts (ONC) at 1:1,000,000-scale, produced by the US National Geospatial-Intelligence Agency (NGA). The map includes over 200 charts across the world, excluding parts of North America, Europe, Asia, and Oceania where charts are not publicly available. For more information on this map, including our terms of use, visit us online at http://goto.arcgisonline.com/maps/World_Navigation_Charts",
 "copyrightText": "Copyright:(c) 2013 East View Cartographic",
 "supportsDynamicLayers": false,
 "layers": [
  {
   "id": 0,
   "name": "World Navigation Charts",
   "parentLayerId": -1,
   "defaultVisibility": true,
   "subLayerIds": null,
   "minScale": 0,
   "maxScale": 0,
   "type": "Feature Layer",
   "geometryType": "esriGeometryPolygon"
  }
 ],
 "tables": [],
 "spatialReference": {
  "wkid": 102100,
  "latestWkid": 3857
 },
 "singleFusedMapCache": true,
 "tileInfo": {
  "rows": 256,
  "cols": 256,
  "dpi": 96,
  "format": "JPEG",
  "compressionQuality": 90,
  "origin": {
   "x": -2.0037508342787E7,
   "y": 2.0037508342787E7
  },
  "spatialReference": {
   "wkid": 102100,
   "latestWkid": 3857
  },
  "lods": [
   {
    "level": 0,
    "resolution": 156543.03392800014,
    "scale": 5.91657527591555E8
   },
   {
    "level": 1,
    "resolution": 78271.51696399994,
    "scale": 2.95828763795777E8
   },
   {
    "level": 2,
    "resolution": 39135.75848200009,
    "scale": 1.47914381897889E8
   },
   {
    "level": 3,
    "resolution": 19567.87924099992,
    "scale": 7.3957190948944E7
   },
   {
    "level": 4,
    "resolution": 9783.93962049996,
    "scale": 3.6978595474472E7
   },
   {
    "level": 5,
    "resolution": 4891.96981024998,
    "scale": 1.8489297737236E7
   },
   {
    "level": 6,
    "resolution": 2445.98490512499,
    "scale": 9244648.868618
   },
   {
    "level": 7,
    "resolution": 1222.992452562495,
    "scale": 4622324.434309
   },
   {
    "level": 8,
    "resolution": 611.4962262813797,
    "scale": 2311162.217155
   },
   {
    "level": 9,
    "resolution": 305.74811314055756,
    "scale": 1155581.108577
   },
   {
    "level": 10,
    "resolution": 152.87405657041106,
    "scale": 577790.554289
   }
  ]
 },
 "initialExtent": {
  "xmin": -2.619758249002561E7,
  "ymin": -1.404917672966675E7,
  "xmax": 2.619758249002561E7,
  "ymax": 1.404917672966671E7,
  "spatialReference": {
   "cs": "pcs",
   "wkid": 102100
  }
 },
 "fullExtent": {
  "xmin": -2.0037507067161843E7,
  "ymin": -1.99718688804086E7,
  "xmax": 2.0037507067161843E7,
  "ymax": 1.9971868880408566E7,
  "spatialReference": {
   "cs": "pcs",
   "wkid": 102100
  }
 },
 "minScale": 0,
 "maxScale": 0,
 "units": "esriMeters",
 "supportedImageFormatTypes": "PNG32,PNG24,PNG,JPG,DIB,TIFF,EMF,PS,PDF,GIF,SVG,SVGZ,BMP",
 "documentInfo": {
  "Title": "World Nautical Map",
  "Author": "Esri",
  "Comments": "",
  "Subject": "nautical, navigation, topographic, aeronautical, ONC, elevation (500m contours), cultural features, hydrography, charts",
  "Category": "elevation (Elevation and derived products)",
  "AntialiasingMode": "None",
  "TextAntialiasingMode": "Force",
  "Keywords": "World,Global"
 },
 "capabilities": "Map,Tilemap",
 "supportedQueryFormats": "JSON, geoJSON",
 "exportTilesAllowed": false,
 "referenceScale": 0,
 "datumTransformations": [
  {
   "geoTransforms": [
    {
     "wkid": 108001,
     "latestWkid": 1241,
     "transformForward": true,
     "name": "NAD_1927_To_NAD_1983_NADCON"
    }
   ]
  },
  {
   "geoTransforms": [
    {
     "wkid": 108001,
     "latestWkid": 1241,
     "transformForward": false,
     "name": "NAD_1927_To_NAD_1983_NADCON"
    }
   ]
  }
 ],
 "supportsDatumTransformation": true,
 "maxRecordCount": 1000,
 "maxImageHeight": 4096,
 "maxImageWidth": 4096,
 "supportedExtensions": "KmlServer"
}
