{ "currentVersion": 11.5, "cimVersion": "3.5.0", "serviceDescription": "
Antarctic Imagery provides 15m TerraColor imagery for the Antarctic region. For more information on this map, including the terms of use, visit us online at https://goto.arcgisonline.com/maps/Antarctic_Imagery<\/span><\/p><\/div>",
"mapName": "Layers",
"description": " Antarctic Imagery provides 15m TerraColor imagery for the Antarctic region. For more information on this map, including the terms of use, visit us online at https://goto.arcgisonline.com/maps/Antarctic_Imagery<\/SPAN><\/P><\/DIV>",
"copyrightText": "Source: Earthstar Geographics",
"supportsDynamicLayers": false,
"layers": [
{
"id": 0,
"name": "Antarctic_Imagery",
"parentLayerId": -1,
"defaultVisibility": true,
"subLayerIds": null,
"minScale": 0,
"maxScale": 0,
"type": "Feature Layer",
"geometryType": "esriGeometryPolygon",
"supportsDynamicLegends": true
}
],
"tables": [],
"spatialReference": {
"wkid": 3031,
"latestWkid": 3031,
"xyTolerance": 0.001,
"zTolerance": 0.001,
"mTolerance": 0.001,
"falseX": -30636100,
"falseY": -30636100,
"xyUnits": 10000,
"falseZ": -100000,
"zUnits": 10000,
"falseM": -100000,
"mUnits": 10000
},
"singleFusedMapCache": true,
"tileInfo": {
"rows": 256,
"cols": 256,
"dpi": 96,
"format": "JPEG",
"compressionQuality": 75,
"origin": {
"x": -3.369955099203E7,
"y": 3.369955101703E7
},
"spatialReference": {
"wkid": 3031,
"latestWkid": 3031,
"xyTolerance": 0.001,
"zTolerance": 0.001,
"mTolerance": 0.001,
"falseX": -3.369955099203E7,
"falseY": -3.369955151703E7,
"xyUnits": 1.3363975062114841E8,
"falseZ": -100000,
"zUnits": 10000,
"falseM": -100000,
"mUnits": 10000
},
"lods": [
{
"level": 0,
"resolution": 238810.81335399998,
"scale": 9.0259024528771E8
},
{
"level": 1,
"resolution": 119405.40667699999,
"scale": 4.51295122643855E8
},
{
"level": 2,
"resolution": 59702.70333849987,
"scale": 2.25647561321927E8
},
{
"level": 3,
"resolution": 29851.351669250063,
"scale": 1.12823780660964E8
},
{
"level": 4,
"resolution": 14925.675834625032,
"scale": 5.6411890330482E7
},
{
"level": 5,
"resolution": 7462.837917312516,
"scale": 2.8205945165241E7
},
{
"level": 6,
"resolution": 3731.4189586563907,
"scale": 1.4102972582621E7
},
{
"level": 7,
"resolution": 1865.709479328063,
"scale": 7051486.29131
},
{
"level": 8,
"resolution": 932.8547396640315,
"scale": 3525743.145655
},
{
"level": 9,
"resolution": 466.42736983214803,
"scale": 1762871.572828
},
{
"level": 10,
"resolution": 233.21368491607402,
"scale": 881435.786414
},
{
"level": 11,
"resolution": 116.60684245803701,
"scale": 440717.893207
},
{
"level": 12,
"resolution": 58.30342122888621,
"scale": 220358.946603
},
{
"level": 13,
"resolution": 29.151710614575396,
"scale": 110179.473302
},
{
"level": 14,
"resolution": 14.5758553072877,
"scale": 55089.736651
},
{
"level": 15,
"resolution": 7.28792765351156,
"scale": 27544.868325
},
{
"level": 16,
"resolution": 3.64396382688807,
"scale": 13772.434163
},
{
"level": 17,
"resolution": 1.82198191331174,
"scale": 6886.217081
},
{
"level": 18,
"resolution": 0.910990956788164,
"scale": 3443.108541
},
{
"level": 19,
"resolution": 0.45549547826179,
"scale": 1721.55427
},
{
"level": 20,
"resolution": 0.227747739130895,
"scale": 860.777135
},
{
"level": 21,
"resolution": 0.113873869697739,
"scale": 430.388568
},
{
"level": 22,
"resolution": 0.05693693484887,
"scale": 215.194284
},
{
"level": 23,
"resolution": 0.028468467424435,
"scale": 107.597142
}
]
},
"storageInfo": {
"storageFormat": "esriMapCacheStorageModeCompactV2",
"packetSize": 128
},
"initialExtent": {
"xmin": -4047952.7333709304,
"ymin": -4077446.4813264553,
"xmax": 3915235.095621065,
"ymax": 4342887.315626191,
"spatialReference": {
"wkid": 3031,
"latestWkid": 3031,
"xyTolerance": 0.001,
"zTolerance": 0.001,
"mTolerance": 0.001,
"falseX": -30636100,
"falseY": -30636100,
"xyUnits": 10000,
"falseZ": -100000,
"zUnits": 10000,
"falseM": -100000,
"mUnits": 10000
}
},
"fullExtent": {
"xmin": -4524537.459499996,
"ymin": -4524537.919199996,
"xmax": 4524539.618899997,
"ymax": 4524539.159199998,
"spatialReference": {
"wkid": 3031,
"latestWkid": 3031,
"xyTolerance": 0.001,
"zTolerance": 0.001,
"mTolerance": 0.001,
"falseX": -30636100,
"falseY": -30636100,
"xyUnits": 10000,
"falseZ": -100000,
"zUnits": 10000,
"falseM": -100000,
"mUnits": 10000
}
},
"datesInUnknownTimezone": false,
"minScale": 0,
"maxScale": 0,
"units": "esriMeters",
"supportedImageFormatTypes": "PNG32,PNG24,PNG,JPG,DIB,TIFF,EMF,PS,PDF,GIF,SVG,SVGZ,BMP",
"documentInfo": {
"Title": "Antarctic Imagery",
"Author": "",
"Comments": " Antarctic Imagery provides 15m TerraColor imagery for the Antarctic region. For more information on this map, including the terms of use, visit us online at https://goto.arcgisonline.com/maps/Antarctic_Imagery<\/SPAN><\/P><\/DIV>",
"Subject": "Provides 15m TerraColor imagery for the southern polar region.",
"Category": "",
"Version": "3.1.0",
"AntialiasingMode": "Fast",
"TextAntialiasingMode": "Force",
"Keywords": "World,Global,Antarctic"
},
"supportsQueryDomains": true,
"capabilities": "Map,Tilemap",
"supportedQueryFormats": "JSON, geoJSON, PBF",
"exportTilesAllowed": false,
"referenceScale": 0.0,
"supportsDatumTransformation": true,
"archivingInfo": {"supportsHistoricMoment": false},
"supportsClipping": true,
"supportsSpatialFilter": true,
"supportsTimeRelation": true,
"supportsQueryDataElements": true,
"mapUnits": {"uwkid": 9001},
"maxSelectionCount": 2000,
"maxRecordCount": 2000,
"maxImageHeight": 4096,
"maxImageWidth": 4096,
"supportedExtensions": "KmlServer"
}