{ "currentVersion": 11.5, "cimVersion": "3.5.0", "serviceDescription": "
Arctic Imagery provides 15m TerraColor imagery for the Arctic region. For more information on this map, including the terms of use, visit us online at https://goto.arcgisonline.com/maps/Arctic_Imagery<\/span><\/p><\/div>",
"mapName": "Layers",
"description": " Arctic Imagery provides 15m TerraColor imagery for the Arctic region. For more information on this map, including the terms of use, visit us online at https://goto.arcgisonline.com/maps/Arctic_Imagery<\/SPAN><\/P><\/DIV>",
"copyrightText": "Source: Earthstar Geographics",
"supportsDynamicLayers": false,
"layers": [
{
"id": 0,
"name": "Arctic_Imagery",
"parentLayerId": -1,
"defaultVisibility": true,
"subLayerIds": null,
"minScale": 0,
"maxScale": 0,
"type": "Feature Layer",
"geometryType": "esriGeometryPolygon",
"supportsDynamicLegends": true
}
],
"tables": [],
"spatialReference": {
"wkid": 5936,
"latestWkid": 5936,
"xyTolerance": 0.001,
"zTolerance": 0.001,
"mTolerance": 0.001,
"falseX": -28567900,
"falseY": -28567900,
"xyUnits": 10000,
"falseZ": -100000,
"zUnits": 10000,
"falseM": -100000,
"mUnits": 10000
},
"singleFusedMapCache": true,
"tileInfo": {
"rows": 256,
"cols": 256,
"dpi": 96,
"format": "JPEG",
"compressionQuality": 75,
"origin": {
"x": -2.8567784109255E7,
"y": 3.2567784109255E7
},
"spatialReference": {
"wkid": 5936,
"latestWkid": 5936,
"xyTolerance": 0.001,
"zTolerance": 0.001,
"mTolerance": 0.001,
"falseX": -3.162456251271462E7,
"falseY": -3.1624562513053983E7,
"xyUnits": 1.3393779101713336E8,
"falseZ": -100000,
"zUnits": 10000,
"falseM": -100000,
"mUnits": 10000
},
"lods": [
{
"level": 0,
"resolution": 238810.813354,
"scale": 9.0259024528771E8
},
{
"level": 1,
"resolution": 119405.406677,
"scale": 4.51295122643855E8
},
{
"level": 2,
"resolution": 59702.7033384999,
"scale": 2.25647561321927E8
},
{
"level": 3,
"resolution": 29851.3516692501,
"scale": 1.12823780660964E8
},
{
"level": 4,
"resolution": 14925.675834625,
"scale": 5.6411890330482E7
},
{
"level": 5,
"resolution": 7462.83791731252,
"scale": 2.8205945165241E7
},
{
"level": 6,
"resolution": 3731.41895865639,
"scale": 1.4102972582621E7
},
{
"level": 7,
"resolution": 1865.70947932806,
"scale": 7051486.29131
},
{
"level": 8,
"resolution": 932.854739664032,
"scale": 3525743.145655
},
{
"level": 9,
"resolution": 466.427369832148,
"scale": 1762871.572828
},
{
"level": 10,
"resolution": 233.213684916074,
"scale": 881435.786414
},
{
"level": 11,
"resolution": 116.606842458037,
"scale": 440717.893207
},
{
"level": 12,
"resolution": 58.3034212288862,
"scale": 220358.946603
},
{
"level": 13,
"resolution": 29.1517106145754,
"scale": 110179.473302
},
{
"level": 14,
"resolution": 14.5758553072877,
"scale": 55089.736651
},
{
"level": 15,
"resolution": 7.28792765351156,
"scale": 27544.868325
},
{
"level": 16,
"resolution": 3.64396382688807,
"scale": 13772.434163
},
{
"level": 17,
"resolution": 1.82198191331174,
"scale": 6886.217081
},
{
"level": 18,
"resolution": 0.910990956788164,
"scale": 3443.108541
},
{
"level": 19,
"resolution": 0.45549547826179,
"scale": 1721.55427
},
{
"level": 20,
"resolution": 0.227747739130895,
"scale": 860.777135
},
{
"level": 21,
"resolution": 0.113873869697739,
"scale": 430.388568
},
{
"level": 22,
"resolution": 0.05693693484887,
"scale": 215.194284
},
{
"level": 23,
"resolution": 0.028468467424435,
"scale": 107.597142
}
]
},
"storageInfo": {
"storageFormat": "esriMapCacheStorageModeCompactV2",
"packetSize": 128
},
"initialExtent": {
"xmin": -1651641.6341137285,
"ymin": -2048985.0971874439,
"xmax": 5933130.548452236,
"ymax": 5971209.192155455,
"spatialReference": {
"wkid": 5936,
"latestWkid": 5936,
"xyTolerance": 0.001,
"zTolerance": 0.001,
"mTolerance": 0.001,
"falseX": -28567900,
"falseY": -28567900,
"xyUnits": 10000,
"falseZ": -100000,
"zUnits": 10000,
"falseM": -100000,
"mUnits": 10000
}
},
"fullExtent": {
"xmin": -2623285.8808999993,
"ymin": -2623287.152999997,
"xmax": 6623285.880299997,
"ymax": 6623284.608199999,
"spatialReference": {
"wkid": 5936,
"latestWkid": 5936,
"xyTolerance": 0.001,
"zTolerance": 0.001,
"mTolerance": 0.001,
"falseX": -28567900,
"falseY": -28567900,
"xyUnits": 10000,
"falseZ": -100000,
"zUnits": 10000,
"falseM": -100000,
"mUnits": 10000
}
},
"datesInUnknownTimezone": false,
"minScale": 0,
"maxScale": 0,
"units": "esriMeters",
"supportedImageFormatTypes": "PNG32,PNG24,PNG,JPG,DIB,TIFF,EMF,PS,PDF,GIF,SVG,SVGZ,BMP",
"documentInfo": {
"Title": "Arctic Imagery",
"Author": "",
"Comments": " Arctic Imagery provides 15m TerraColor imagery for the Arctic region. For more information on this map, including the terms of use, visit us online at https://goto.arcgisonline.com/maps/Arctic_Imagery<\/SPAN><\/P><\/DIV>",
"Subject": "Provides 15m TerraColor imagery for the northern polar region.",
"Category": "",
"Version": "3.1.0",
"AntialiasingMode": "Fast",
"TextAntialiasingMode": "Force",
"Keywords": "World,Global,Arctic"
},
"supportsQueryDomains": true,
"capabilities": "Map,Tilemap",
"supportedQueryFormats": "JSON, geoJSON, PBF",
"exportTilesAllowed": false,
"referenceScale": 0.0,
"supportsDatumTransformation": true,
"archivingInfo": {"supportsHistoricMoment": false},
"supportsClipping": true,
"supportsSpatialFilter": true,
"supportsTimeRelation": true,
"supportsQueryDataElements": true,
"mapUnits": {"uwkid": 9001},
"maxSelectionCount": 2000,
"maxRecordCount": 2000,
"maxImageHeight": 4096,
"maxImageWidth": 4096,
"supportedExtensions": "KmlServer"
}