{
 "currentVersion": 10.91,
 "serviceDescription": "This map presents country boundaries, first order (State/Province) internal administrative boundaries for most countries, second order administrative boundaries for the United States (counties) and some countries in Europe, and place names for the world. The map was developed by Esri using administrative and cities data from Esri; Garmin basemap layers for the world; HERE data for North America, Europe, Australia, New Zealand, South America and Central America, Africa, India, and most of the Middle East; OpenStreetMap data for some features in select African countries; and feature names from the GIS user community. This map is designed for use with maps with darker backgrounds, such as World Imagery. For more information on this map, including the terms of use, visit us online<\/a>.",
 "mapName": "Layers",
 "description": "This map presents country boundaries, first order (State/Province) internal administrative boundaries for most countries, second order administrative boundaries for the United States (counties) and some countries in Europe, and place names for the world. The map was developed by Esri using administrative and cities data from Esri; Garmin basemap layers for the world; HERE data for North America, Europe, Australia, New Zealand, South America and Central America, Africa, India, and most of the Middle East; OpenStreetMap data for some features in select African countries; and feature names from the GIS user community. This map is designed for use with maps with darker backgrounds, such as World Imagery. For more information on this map, including the terms of use, visit us online at http://goto.arcgisonline.com/maps/Reference/World_Boundaries_and_Places",
 "copyrightText": "Esri, HERE, Garmin, (c) OpenStreetMap contributors, and the GIS user community",
 "supportsDynamicLayers": false,
 "layers": [
  {
   "id": 0,
   "name": "World Boundaries and Places",
   "parentLayerId": -1,
   "defaultVisibility": true,
   "subLayerIds": null,
   "minScale": 0,
   "maxScale": 0,
   "type": "Feature Layer",
   "geometryType": "esriGeometryPolygon"
  }
 ],
 "tables": [],
 "spatialReference": {
  "wkid": 102100,
  "latestWkid": 3857
 },
 "singleFusedMapCache": true,
 "tileInfo": {
  "rows": 256,
  "cols": 256,
  "dpi": 96,
  "format": "PNG32",
  "compressionQuality": 0,
  "origin": {
   "x": -2.0037508342787E7,
   "y": 2.0037508342787E7
  },
  "spatialReference": {
   "wkid": 102100,
   "latestWkid": 3857
  },
  "lods": [
   {
    "level": 0,
    "resolution": 156543.03392800014,
    "scale": 5.91657527591555E8
   },
   {
    "level": 1,
    "resolution": 78271.51696399994,
    "scale": 2.95828763795777E8
   },
   {
    "level": 2,
    "resolution": 39135.75848200009,
    "scale": 1.47914381897889E8
   },
   {
    "level": 3,
    "resolution": 19567.87924099992,
    "scale": 7.3957190948944E7
   },
   {
    "level": 4,
    "resolution": 9783.93962049996,
    "scale": 3.6978595474472E7
   },
   {
    "level": 5,
    "resolution": 4891.96981024998,
    "scale": 1.8489297737236E7
   },
   {
    "level": 6,
    "resolution": 2445.98490512499,
    "scale": 9244648.868618
   },
   {
    "level": 7,
    "resolution": 1222.992452562495,
    "scale": 4622324.434309
   },
   {
    "level": 8,
    "resolution": 611.4962262813797,
    "scale": 2311162.217155
   },
   {
    "level": 9,
    "resolution": 305.74811314055756,
    "scale": 1155581.108577
   },
   {
    "level": 10,
    "resolution": 152.87405657041106,
    "scale": 577790.554289
   },
   {
    "level": 11,
    "resolution": 76.43702828507324,
    "scale": 288895.277144
   },
   {
    "level": 12,
    "resolution": 38.21851414253662,
    "scale": 144447.638572
   },
   {
    "level": 13,
    "resolution": 19.10925707126831,
    "scale": 72223.819286
   },
   {
    "level": 14,
    "resolution": 9.554628535634155,
    "scale": 36111.909643
   },
   {
    "level": 15,
    "resolution": 4.77731426794937,
    "scale": 18055.954822
   },
   {
    "level": 16,
    "resolution": 2.388657133974685,
    "scale": 9027.977411
   },
   {
    "level": 17,
    "resolution": 1.1943285668550503,
    "scale": 4513.988705
   },
   {
    "level": 18,
    "resolution": 0.5971642835598172,
    "scale": 2256.994353
   },
   {
    "level": 19,
    "resolution": 0.29858214164761665,
    "scale": 1128.497176
   },
   {
    "level": 20,
    "resolution": 0.14929107082380833,
    "scale": 564.248588
   },
   {
    "level": 21,
    "resolution": 0.07464553541190416,
    "scale": 282.124294
   },
   {
    "level": 22,
    "resolution": 0.03732276770595208,
    "scale": 141.062147
   },
   {
    "level": 23,
    "resolution": 0.01866138385297604,
    "scale": 70.5310735
   }
  ]
 },
 "initialExtent": {
  "xmin": -3.3938403394018404E7,
  "ymin": -2.1018670283795536E7,
  "xmax": 3.3938403394018404E7,
  "ymax": 2.1018670283795446E7,
  "spatialReference": {
   "cs": "pcs",
   "wkid": 102100
  }
 },
 "fullExtent": {
  "xmin": -2.0037507067161843E7,
  "ymin": -1.99718688804086E7,
  "xmax": 2.0037507067161843E7,
  "ymax": 1.9971868880408484E7,
  "spatialReference": {
   "cs": "pcs",
   "wkid": 102100
  }
 },
 "minScale": 0,
 "maxScale": 0,
 "units": "esriMeters",
 "supportedImageFormatTypes": "PNG32,PNG24,PNG,JPG,DIB,TIFF,EMF,PS,PDF,GIF,SVG,SVGZ,BMP",
 "documentInfo": {
  "Title": "World Boundaries and Places",
  "Author": "Esri",
  "Comments": "",
  "Subject": "countries, states, provinces, counties, cities, administrative areas, place names, landmarks ",
  "Category": "boundaries (Administrative and political boundaries) ",
  "AntialiasingMode": "None",
  "TextAntialiasingMode": "Force",
  "Keywords": "World,Global,Europe,North America,South America,Central America,India,Asia,Middle East,Northern Africa,Southern Africa,Australia,New Zealand"
 },
 "capabilities": "Map,Tilemap",
 "supportedQueryFormats": "JSON, geoJSON",
 "exportTilesAllowed": false,
 "referenceScale": 0,
 "datumTransformations": [
  {
   "geoTransforms": [
    {
     "wkid": 108001,
     "latestWkid": 1241,
     "transformForward": true,
     "name": "NAD_1927_To_NAD_1983_NADCON"
    }
   ]
  },
  {
   "geoTransforms": [
    {
     "wkid": 108001,
     "latestWkid": 1241,
     "transformForward": false,
     "name": "NAD_1927_To_NAD_1983_NADCON"
    }
   ]
  }
 ],
 "supportsDatumTransformation": true,
 "maxRecordCount": 1000,
 "maxImageHeight": 4096,
 "maxImageWidth": 4096,
 "supportedExtensions": "KmlServer"
}
