View In:
ArcGIS JavaScript
ArcGIS Online Map Viewer
ArcGIS Earth
ArcMap
ArcGIS Pro
View Footprint In:
ArcGIS Online Map Viewer
Service Description: Garmin's basemap is designed to be used by GIS technicians and other mapping professionals, across a variety of industries. The Garmin World Basemap is a seamless global data set with horizontal accuracy of +/- 50 meters. The map accurately portrays major transportation layers, inland and shoreline hydrography, agreed and disputed jurisdiction boundaries, and major geographic features. The map provides coverage for the world down to a scale of approximately 1:144k. In designing the map, Garmin applied a rich cartographic look and feel to create a seamless view of the world, combining accurate object placement and projection with a compelling topographic visualization of the Earth. For more information on this map, including the terms of use, visit us
online.
Map Name: Layers
Legend
All Layers and Tables
Layers:
Description: Garmin's basemap is designed to be used by GIS technicians and other mapping professionals, across a variety of industries. The Garmin World Basemap is a seamless global data set with horizontal accuracy of +/- 50 meters. The map accurately portrays major transportation layers, inland and shoreline hydrography, agreed and disputed jurisdiction boundaries, and major geographic features. The map provides coverage for the world down to a scale of approximately 1:144k. In designing the map, Garmin applied a rich cartographic look and feel to create a seamless view of the world, combining accurate object placement and projection with a compelling topographic visualization of the Earth. For more information on this map, including our terms of use, visit us online at http://goto.arcgisonline.com/maps/Specialty/DeLorme_World_Base_Map
Copyright Text: Copyright:(c) 2018 Garmin
Spatial Reference:
102100
(3857)
Single Fused Map Cache: true
Tile Info:
- Height: 256
- Width: 256
- DPI: 96
-
Levels of Detail: 13
-
Level ID: 0
[ Start Tile, End Tile ]
- Resolution: 156543.03392800014
- Scale: 5.91657527591555E8
-
Level ID: 1
[ Start Tile, End Tile ]
- Resolution: 78271.51696399994
- Scale: 2.95828763795777E8
-
Level ID: 2
[ Start Tile, End Tile ]
- Resolution: 39135.75848200009
- Scale: 1.47914381897889E8
-
Level ID: 3
[ Start Tile, End Tile ]
- Resolution: 19567.87924099992
- Scale: 7.3957190948944E7
-
Level ID: 4
[ Start Tile, End Tile ]
- Resolution: 9783.93962049996
- Scale: 3.6978595474472E7
-
Level ID: 5
[ Start Tile, End Tile ]
- Resolution: 4891.96981024998
- Scale: 1.8489297737236E7
- Format: JPEG
- Compression Quality: 90.0
- Origin: X: -2.0037508342787E7
Y: 2.0037508342787E7
- Spatial Reference: 102100
(3857)
Initial Extent:
XMin: -3.1187598202411484E7
YMin: -1.6725210392460395E7
XMax: 3.1187598202411484E7
YMax: 1.672521039246044E7
Spatial Reference: 102100
Full Extent:
XMin: -2.0037507067161843E7
YMin: -1.99718688804086E7
XMax: 2.0037507067161843E7
YMax: 1.997186888040863E7
Spatial Reference: 102100
Units: esriMeters
Supported Image Format Types: PNG32,PNG24,PNG,JPG,DIB,TIFF,EMF,PS,PDF,GIF,SVG,SVGZ,BMP
Document Info:
Title: Garmin World Basemap
Author: Garmin
Comments:
Subject: basemap, topography, water, hydrography, transportation, boundaries
Category: imageryBaseMapsEarthCover (Imagery, basemaps, and land cover)
Keywords: World,Global
AntialiasingMode: None
TextAntialiasingMode: Force
Supports Dynamic Layers: false
MaxRecordCount: 1000
MaxImageHeight: 4096
MaxImageWidth: 4096
Supported Query Formats: JSON, geoJSON
Supports Query Data Elements:
Min Scale: 0
Max Scale: 0
Supports Datum Transformation: true
Child Resources:
Info
Supported Operations:
Export Map
QueryLegends
Return Updates
Generate KML