{ "currentVersion": 11.3, "cimVersion": "3.3.0", "serviceDescription": "
This map is designed to be used as a base map by GIS professionals to overlay other thematic layers such as demographics or land cover. The base map features shaded relief imagery, bathymetry, and coastal water features designed to provide a neutral background for other data layers. The map was compiled from a variety of sources from several data providers, including the U.S. Geological Survey, NOAA, and Esri. The base map currently provides coverage for the world down to a scale of ~1:1m and coverage for the continental United States and Hawaii to a scale of ~1:70k. For more information on this map, including our terms of use, visit us online at https://goto.arcgisonline.com/maps/World_Terrain_Base<\/span><\/p><\/div>",
"mapName": "Layers",
"description": " This map is designed to be used as a base map by GIS professionals to overlay other thematic layers such as demographics or land cover. The base map features shaded relief imagery, bathymetry, and coastal water features designed to provide a neutral background for other data layers. The map was compiled from a variety of sources from several data providers, including the U.S. Geological Survey, NOAA, and Esri. The base map currently provides coverage for the world down to a scale of ~1:1m and coverage for the continental United States and Hawaii to a scale of ~1:70k. For more information on this map, including our terms of use, visit us online at https://goto.arcgisonline.com/maps/World_Terrain_Base<\/SPAN><\/P><\/DIV>",
"copyrightText": "Sources: Esri, USGS, NOAA",
"supportsDynamicLayers": false,
"layers": [
{
"id": 0,
"name": "World_Terrain_Base",
"parentLayerId": -1,
"defaultVisibility": true,
"subLayerIds": null,
"minScale": 0,
"maxScale": 0,
"type": "Feature Layer",
"geometryType": "esriGeometryPolygon",
"supportsDynamicLegends": true
}
],
"tables": [],
"spatialReference": {
"wkid": 102100,
"latestWkid": 3857,
"xyTolerance": 0.001,
"zTolerance": 0.001,
"mTolerance": 0.001,
"falseX": -20037700,
"falseY": -30241100,
"xyUnits": 10000,
"falseZ": -100000,
"zUnits": 10000,
"falseM": -100000,
"mUnits": 10000
},
"singleFusedMapCache": true,
"tileInfo": {
"rows": 256,
"cols": 256,
"dpi": 96,
"format": "JPEG",
"compressionQuality": 90,
"origin": {
"x": -2.0037508342787E7,
"y": 2.0037508342787E7
},
"spatialReference": {
"wkid": 102100,
"latestWkid": 3857,
"xyTolerance": 0.001,
"zTolerance": 2.0E-4,
"mTolerance": 2.0E-4,
"falseX": -2.204125777387803E7,
"falseY": -3.326506915422488E7,
"xyUnits": 1.3538524770505434E8,
"falseZ": -100000,
"zUnits": 10000,
"falseM": -100000,
"mUnits": 10000
},
"lods": [
{
"level": 0,
"resolution": 156543.03392800014,
"scale": 5.91657527591555E8
},
{
"level": 1,
"resolution": 78271.51696399994,
"scale": 2.95828763795777E8
},
{
"level": 2,
"resolution": 39135.75848200009,
"scale": 1.47914381897889E8
},
{
"level": 3,
"resolution": 19567.87924099992,
"scale": 7.3957190948944E7
},
{
"level": 4,
"resolution": 9783.93962049996,
"scale": 3.6978595474472E7
},
{
"level": 5,
"resolution": 4891.96981024998,
"scale": 1.8489297737236E7
},
{
"level": 6,
"resolution": 2445.98490512499,
"scale": 9244648.868618
},
{
"level": 7,
"resolution": 1222.992452562495,
"scale": 4622324.434309
},
{
"level": 8,
"resolution": 611.4962262813797,
"scale": 2311162.217155
},
{
"level": 9,
"resolution": 305.74811314055756,
"scale": 1155581.108577
},
{
"level": 10,
"resolution": 152.87405657041106,
"scale": 577790.554289
},
{
"level": 11,
"resolution": 76.43702828507324,
"scale": 288895.277144
},
{
"level": 12,
"resolution": 38.21851414253662,
"scale": 144447.638572
},
{
"level": 13,
"resolution": 19.10925707126831,
"scale": 72223.819286
}
]
},
"storageInfo": {
"storageFormat": "esriMapCacheStorageModeCompactV2",
"packetSize": 128
},
"initialExtent": {
"xmin": -2.0037507067161843E7,
"ymin": -2.328451214794976E7,
"xmax": 2.0037507067161843E7,
"ymax": 2.3328666329414517E7,
"spatialReference": {
"wkid": 102100,
"latestWkid": 3857,
"xyTolerance": 0.001,
"zTolerance": 0.001,
"mTolerance": 0.001,
"falseX": -20037700,
"falseY": -30241100,
"xyUnits": 10000,
"falseZ": -100000,
"zUnits": 10000,
"falseM": -100000,
"mUnits": 10000
}
},
"fullExtent": {
"xmin": -2.0037507067161843E7,
"ymin": -1.999070943504232E7,
"xmax": 2.0037507067161843E7,
"ymax": 2.0034863616507012E7,
"spatialReference": {
"wkid": 102100,
"latestWkid": 3857,
"xyTolerance": 0.001,
"zTolerance": 0.001,
"mTolerance": 0.001,
"falseX": -20037700,
"falseY": -30241100,
"xyUnits": 10000,
"falseZ": -100000,
"zUnits": 10000,
"falseM": -100000,
"mUnits": 10000
}
},
"datesInUnknownTimezone": false,
"minScale": 0,
"maxScale": 0,
"units": "esriMeters",
"supportedImageFormatTypes": "PNG32,PNG24,PNG,JPG,DIB,TIFF,EMF,PS,PDF,GIF,SVG,SVGZ,BMP",
"documentInfo": {
"Title": "World Terrain Base",
"Author": "",
"Comments": " This map is designed to be used as a base map by GIS professionals to overlay other thematic layers such as demographics or land cover. The base map features shaded relief imagery, bathymetry, and coastal water features designed to provide a neutral background for other data layers. The map was compiled from a variety of sources from several data providers, including the U.S. Geological Survey, NOAA, and Esri. The base map currently provides coverage for the world down to a scale of ~1:1m and coverage for the continental United States and Hawaii to a scale of ~1:70k. For more information on this map, including our terms of use, visit us online at https://goto.arcgisonline.com/maps/World_Terrain_Base<\/SPAN><\/P><\/DIV>",
"Subject": "In mature support; no longer updated.",
"Category": "",
"Version": "3.1.0",
"AntialiasingMode": "Fast",
"TextAntialiasingMode": "Force",
"Keywords": "World,Global,Europe,Japan,Hong Kong,North America,United States,Canada,Mexico,Southern Africa,Asia,South America,Australia,New Zealand,India,Argentina,Brazil,Chile,Venezuela,Andorra,Austria,Belgium,Czech Republic,Denmark,France,Germany,Great Britain,Greece,Hungary,Ireland,Italy,Luxembourg,Netherlands,Norway,Poland,Portugal,San Marino,Slovakia,Spain,Sweden,Switzerland,Russia,Thailand,Turkey"
},
"supportsQueryDomains": true,
"capabilities": "Map,Tilemap",
"supportedQueryFormats": "JSON, geoJSON, PBF",
"exportTilesAllowed": false,
"referenceScale": 0.0,
"datumTransformations": [
{
"geoTransforms": [
{
"wkid": 108100,
"latestWkid": 15973,
"transformForward": false,
"name": "WGS_1984_Major_Auxiliary_Sphere_To_WGS_1984"
}
]
},
{
"geoTransforms": [
{
"wkid": 108100,
"latestWkid": 15973,
"transformForward": true,
"name": "WGS_1984_Major_Auxiliary_Sphere_To_WGS_1984"
}
]
},
{
"geoTransforms": [
{
"wkid": 108100,
"latestWkid": 15973,
"transformForward": false,
"name": "WGS_1984_Major_Auxiliary_Sphere_To_WGS_1984"
}
]
},
{
"geoTransforms": [
{
"wkid": 108100,
"latestWkid": 15973,
"transformForward": true,
"name": "WGS_1984_Major_Auxiliary_Sphere_To_WGS_1984"
}
]
}
],
"supportsDatumTransformation": true,
"archivingInfo": {"supportsHistoricMoment": false},
"supportsClipping": true,
"supportsSpatialFilter": true,
"supportsTimeRelation": true,
"supportsQueryDataElements": true,
"mapUnits": {"uwkid": 9001},
"maxRecordCount": 2000,
"maxImageHeight": 4096,
"maxImageWidth": 4096,
"supportedExtensions": "KmlServer"
}