View In:
ArcGIS JavaScript
ArcGIS Online Map Viewer
ArcGIS Earth
ArcGIS Pro
Service Description: This map portrays elevation as an artistic hillshade. This map is designed to be used as a backdrop for topographical, soil, hydro, landcover or other outdoor recreational maps. The map was compiled from a variety of sources from several data providers. The basemap has global coverage down to a scale of ~1:72k. In select areas of the United States and Europe, coverage is available down to ~1:9k. For more information on this map, including the terms of use, visit us online at https://goto.arcgisonline.com/maps/Elevation/World_Hillshade
Map Name: Layers
Legend
All Layers and Tables
Layers:
Description: This map portrays elevation as an artistic hillshade. This map is designed to be used as a backdrop for topographical, soil, hydro, landcover or other outdoor recreational maps. The map was compiled from a variety of sources from several data providers. The basemap has global coverage down to a scale of ~1:72k. In select areas of the United States and Europe, coverage is available down to ~1:9k. For more information on this map, including the terms of use, visit us online at https://goto.arcgisonline.com/maps/Elevation/World_Hillshade
Copyright Text: Sources: Esri, Vantor, Airbus DS, USGS, NGA, NASA, CGIAR, N Robinson, NCEAS, NLS, OS, NMA, Geodatastyrelsen, Rijkswaterstaat, GSA, Geoland, FEMA, Intermap, and the GIS user community
Spatial Reference:
102100
(3857)
Single Fused Map Cache: true
Tile Info:
- Height: 256
- Width: 256
- DPI: 96
-
Levels of Detail: 24
-
Level ID: 0
[ Start Tile, End Tile ]
- Resolution: 156543.03392800014
- Scale: 5.91657527591555E8
-
Level ID: 1
[ Start Tile, End Tile ]
- Resolution: 78271.51696399994
- Scale: 2.95828763795777E8
-
Level ID: 2
[ Start Tile, End Tile ]
- Resolution: 39135.75848200009
- Scale: 1.47914381897889E8
-
Level ID: 3
[ Start Tile, End Tile ]
- Resolution: 19567.87924099992
- Scale: 7.3957190948944E7
-
Level ID: 4
[ Start Tile, End Tile ]
- Resolution: 9783.93962049996
- Scale: 3.6978595474472E7
-
Level ID: 5
[ Start Tile, End Tile ]
- Resolution: 4891.96981024998
- Scale: 1.8489297737236E7
- Format: JPEG
- Compression Quality: 90.0
- Origin: X: -2.0037508342787E7
Y: 2.0037508342787E7
- Spatial Reference: 102100
(3857)
Storage Info:
- Storage Format: esriMapCacheStorageModeCompactV2
- Packet Size: 128
Initial Extent:
XMin: -2.0037507067161843E7
YMin: -2.20281697834866E7
XMax: 2.0037507067161843E7
YMax: 2.2072323964951172E7
Spatial Reference: 102100
Full Extent:
XMin: -2.0037507067161843E7
YMin: -1.999070943504232E7
XMax: 2.0037507067161843E7
YMax: 2.0034863616507012E7
Spatial Reference: 102100
Units: esriMeters
Supported Image Format Types: PNG32,PNG24,PNG,JPG,DIB,TIFF,EMF,PS,PDF,GIF,SVG,SVGZ,BMP
Document Info:
Title: World Hillshade
Author:
Comments: <DIV STYLE="text-align:Left;font-size:12pt"><P><SPAN>This map portrays elevation as an artistic hillshade. This map is designed to be used as a backdrop for topographical, soil, hydro, landcover or other outdoor recreational maps. The map was compiled from a variety of sources from several data providers. The basemap has global coverage down to a scale of ~1:72k. In select areas of the United States and Europe, coverage is available down to ~1:9k. For more information on this map, including the terms of use, visit us online at https://goto.arcgisonline.com/maps/Elevation/World_Hillshade</SPAN></P></DIV>
Subject: Portrays elevation as an artistic hillshade. The map is designed to be used as a backdrop for topographic, soil, hydro, landcover or other outdoor recreational maps.
Category:
Keywords: world,multi-directional hillshade,multidirectional,artistic,next gen,shaded relief,relief shading,terrain,basemap,elevation,topographic,map,AFA250_base,esri_basemap​
AntialiasingMode: None
TextAntialiasingMode: Force
Supports Dynamic Layers: false
MaxRecordCount: 2000
MaxImageHeight: 4096
MaxImageWidth: 4096
Supported Query Formats: JSON, geoJSON, PBF
Supports Query Data Elements: true
Min Scale: 0
Max Scale: 0
Supports Datum Transformation: true
Child Resources:
Info
Supported Operations:
Export Map
QueryLegends
Return Updates
Generate KML