View In:
ArcGIS JavaScript
ArcGIS Online Map Viewer
ArcGIS Earth
ArcGIS Pro
Service Description: <div style='text-align:Left;font-size:12pt'><p><span>Antarctic Imagery provides 15m TerraColor imagery for the Antarctic region. For more information on this map, including the terms of use, visit us online at https://goto.arcgisonline.com/maps/Antarctic_Imagery</span></p></div>
Map Name: Layers
Legend
All Layers and Tables
Layers:
Description: <DIV STYLE="text-align:Left;font-size:12pt"><P><SPAN>Antarctic Imagery provides 15m TerraColor imagery for the Antarctic region. For more information on this map, including the terms of use, visit us online at https://goto.arcgisonline.com/maps/Antarctic_Imagery</SPAN></P></DIV>
Copyright Text: Source: Earthstar Geographics
Spatial Reference:
3031
(3031)
LatestVCSWkid(0)
Single Fused Map Cache: true
Tile Info:
- Height: 256.0
- Width: 256.0
- DPI: 96.0
-
Levels of Detail: 24
-
Level ID: 0
[ Start Tile, End Tile ]
- Resolution: 238810.81335399998
- Scale: 9.0259024528771E8
-
Level ID: 1
[ Start Tile, End Tile ]
- Resolution: 119405.40667699999
- Scale: 4.51295122643855E8
-
Level ID: 2
[ Start Tile, End Tile ]
- Resolution: 59702.70333849987
- Scale: 2.25647561321927E8
-
Level ID: 3
[ Start Tile, End Tile ]
- Resolution: 29851.351669250063
- Scale: 1.12823780660964E8
-
Level ID: 4
[ Start Tile, End Tile ]
- Resolution: 14925.675834625032
- Scale: 5.6411890330482E7
-
Level ID: 5
[ Start Tile, End Tile ]
- Resolution: 7462.837917312516
- Scale: 2.8205945165241E7
-
Level ID: 6
[ Start Tile, End Tile ]
- Resolution: 3731.4189586563907
- Scale: 1.4102972582621E7
- Format: JPEG
- Compression Quality: 75.0
- Origin: X: -3.369955099203E7
Y: 3.369955101703E7
- Spatial Reference: 3031
(3031)
LatestVCSWkid(0)
Storage Info:
- Storage Format: esriMapCacheStorageModeCompactV2
- Packet Size: 128
Initial Extent:
XMin: -4047952.7333709304
YMin: -4077446.4813264553
XMax: 3915235.095621065
YMax: 4342887.315626191
Spatial Reference: 3031
(3031)
LatestVCSWkid(0)
Full Extent:
XMin: -4524537.459499996
YMin: -4524537.919199996
XMax: 4524539.618899997
YMax: 4524539.159199998
Spatial Reference: 3031
(3031)
LatestVCSWkid(0)
Units: esriMeters
Supported Image Format Types: PNG32,PNG24,PNG,JPG,DIB,TIFF,EMF,PS,PDF,GIF,SVG,SVGZ,BMP
Document Info:
Title: Antarctic Imagery
Author:
Comments: <DIV STYLE="text-align:Left;font-size:12pt"><P><SPAN>Antarctic Imagery provides 15m TerraColor imagery for the Antarctic region. For more information on this map, including the terms of use, visit us online at https://goto.arcgisonline.com/maps/Antarctic_Imagery</SPAN></P></DIV>
Subject: Provides 15m TerraColor imagery for the southern polar region.
Category:
Keywords: World,Global,Antarctic
AntialiasingMode: Fast
TextAntialiasingMode: Force
Supports Dynamic Layers: false
MaxRecordCount: 2000
MaxSelectionCount: 2000
MaxImageHeight: 4096
MaxImageWidth: 4096
Supported Query Formats: JSON, geoJSON, PBF
Supports Query Data Elements: true
Min Scale: 0
Max Scale: 0
Supports Datum Transformation: true
Child Resources:
Info
Supported Operations:
Export Map
QueryLegends
Return Updates
Generate KML